BEGIN:VCALENDAR
VERSION:2.0
PRODID:-//City of Russell Springs - ECPv6.2.9//NONSGML v1.0//EN
CALSCALE:GREGORIAN
METHOD:PUBLISH
X-WR-CALNAME:City of Russell Springs
X-ORIGINAL-URL:https://russellsprings.net
X-WR-CALDESC:Events for City of Russell Springs
REFRESH-INTERVAL;VALUE=DURATION:PT1H
X-Robots-Tag:noindex
X-PUBLISHED-TTL:PT1H
BEGIN:VTIMEZONE
TZID:UTC
BEGIN:STANDARD
TZOFFSETFROM:+0000
TZOFFSETTO:+0000
TZNAME:UTC
DTSTART:20180101T000000
END:STANDARD
END:VTIMEZONE
BEGIN:VEVENT
DTSTART;TZID=UTC:20190411T180000
DTEND;TZID=UTC:20190411T180000
DTSTAMP:20260426T000756
CREATED:20190103T124341Z
LAST-MODIFIED:20190103T124341Z
UID:9648-1555005600-1555005600@russellsprings.net
SUMMARY:City Council Meeting
DESCRIPTION:Regular Monthly Meeting of the Russell Springs City Council. \n6:00 p.m. at City Hall on Main Street
URL:https://russellsprings.net/event/city-council-meeting-9/
END:VEVENT
BEGIN:VEVENT
DTSTART;TZID=UTC:20190314T180000
DTEND;TZID=UTC:20190314T180000
DTSTAMP:20260426T000756
CREATED:20190103T124007Z
LAST-MODIFIED:20190103T124043Z
UID:9641-1552586400-1552586400@russellsprings.net
SUMMARY:City Council Meeting
DESCRIPTION:Regular Monthly Meeting of the Russell Springs City Council. \n6:00 p.m. at City Hall on Main Street
URL:https://russellsprings.net/event/city-council-meeting-6/
END:VEVENT
BEGIN:VEVENT
DTSTART;TZID=UTC:20190214T180000
DTEND;TZID=UTC:20190214T180000
DTSTAMP:20260426T000756
CREATED:20190103T124310Z
LAST-MODIFIED:20190103T124310Z
UID:9646-1550167200-1550167200@russellsprings.net
SUMMARY:City Council Meeting
DESCRIPTION:Regular Monthly Meeting of the Russell Springs City Council. \n6:00 p.m. at City Hall on Main Street
URL:https://russellsprings.net/event/city-council-meeting-8/
END:VEVENT
BEGIN:VEVENT
DTSTART;TZID=UTC:20190110T180000
DTEND;TZID=UTC:20190110T180000
DTSTAMP:20260426T000756
CREATED:20190103T124222Z
LAST-MODIFIED:20190103T124222Z
UID:9644-1547143200-1547143200@russellsprings.net
SUMMARY:City Council Meeting
DESCRIPTION:Regular Monthly Meeting of the Russell Springs City Council. \n6:00 p.m. at City Hall on Main Street
URL:https://russellsprings.net/event/city-council-meeting-7/
END:VEVENT
BEGIN:VEVENT
DTSTART;VALUE=DATE:20190101
DTEND;VALUE=DATE:20190102
DTSTAMP:20260426T000756
CREATED:20181116T143519Z
LAST-MODIFIED:20181116T143519Z
UID:9578-1546300800-1546387199@russellsprings.net
SUMMARY:All City Offices Will Be Closed
DESCRIPTION:All City Offices Will Be Closed
URL:https://russellsprings.net/event/all-city-offices-will-be-closed-3/
END:VEVENT
BEGIN:VEVENT
DTSTART;VALUE=DATE:20190101
DTEND;VALUE=DATE:20190102
DTSTAMP:20260426T000756
CREATED:20181116T143430Z
LAST-MODIFIED:20181116T143430Z
UID:9576-1546300800-1546387199@russellsprings.net
SUMMARY:New Year's Day
DESCRIPTION:New Year’s Day
URL:https://russellsprings.net/event/new-years-day/
END:VEVENT
BEGIN:VEVENT
DTSTART;TZID=UTC:20181231T080000
DTEND;TZID=UTC:20181231T170000
DTSTAMP:20260426T000756
CREATED:20181116T143321Z
LAST-MODIFIED:20181116T143346Z
UID:9574-1546243200-1546275600@russellsprings.net
SUMMARY:New Years Eve
DESCRIPTION:New Years Eve!
URL:https://russellsprings.net/event/new-years-eve/
END:VEVENT
BEGIN:VEVENT
DTSTART;VALUE=DATE:20181225
DTEND;VALUE=DATE:20181226
DTSTAMP:20260426T000756
CREATED:20181116T142736Z
LAST-MODIFIED:20181116T142736Z
UID:9572-1545696000-1545782399@russellsprings.net
SUMMARY:All City Offices Will Be Closed
DESCRIPTION:All City Offices Will Be Closed
URL:https://russellsprings.net/event/all-city-offices-will-be-closed-2/
END:VEVENT
BEGIN:VEVENT
DTSTART;VALUE=DATE:20181225
DTEND;VALUE=DATE:20181226
DTSTAMP:20260426T000756
CREATED:20181116T142652Z
LAST-MODIFIED:20181116T142652Z
UID:9570-1545696000-1545782399@russellsprings.net
SUMMARY:Christmas Day!
DESCRIPTION:Christmas Day!
URL:https://russellsprings.net/event/christmas-day/
END:VEVENT
BEGIN:VEVENT
DTSTART;VALUE=DATE:20181224
DTEND;VALUE=DATE:20181225
DTSTAMP:20260426T000756
CREATED:20181116T142608Z
LAST-MODIFIED:20181116T142608Z
UID:9568-1545609600-1545695999@russellsprings.net
SUMMARY:All City Offices Will Be Closed.
DESCRIPTION:All City Offices Will Be Closed
URL:https://russellsprings.net/event/all-city-offices-will-be-closed/
END:VEVENT
BEGIN:VEVENT
DTSTART;VALUE=DATE:20181224
DTEND;VALUE=DATE:20181225
DTSTAMP:20260426T000756
CREATED:20181116T142453Z
LAST-MODIFIED:20181116T142453Z
UID:9566-1545609600-1545695999@russellsprings.net
SUMMARY:Christmas Eve!
DESCRIPTION:Christmas Eve!
URL:https://russellsprings.net/event/christmas-eve/
END:VEVENT
BEGIN:VEVENT
DTSTART;TZID=UTC:20181213T180000
DTEND;TZID=UTC:20181213T180000
DTSTAMP:20260426T000756
CREATED:20180405T130159Z
LAST-MODIFIED:20180405T130159Z
UID:9181-1544724000-1544724000@russellsprings.net
SUMMARY:City of Russell Springs Council Meeting 6:00pm
DESCRIPTION:City of Russell Springs Regularly Monthly Meeting \nCity Hall in Russell Springs 6:00 p.m.
URL:https://russellsprings.net/event/city-of-russell-springs-council-meeting-600pm-11/
END:VEVENT
BEGIN:VEVENT
DTSTART;VALUE=DATE:20181123
DTEND;VALUE=DATE:20181124
DTSTAMP:20260426T000756
CREATED:20181116T142103Z
LAST-MODIFIED:20181116T142202Z
UID:9562-1542931200-1543017599@russellsprings.net
SUMMARY:City Hall Will Be Closed
DESCRIPTION:All city offices will be closed for Thanksgiving.
URL:https://russellsprings.net/event/city-hall-will-be-closed/
END:VEVENT
BEGIN:VEVENT
DTSTART;VALUE=DATE:20181122
DTEND;VALUE=DATE:20181123
DTSTAMP:20260426T000756
CREATED:20181116T142400Z
LAST-MODIFIED:20181116T142400Z
UID:9564-1542844800-1542931199@russellsprings.net
SUMMARY:City Hall Will Be Closed
DESCRIPTION:All city offices will be closed for Thanksgiving.
URL:https://russellsprings.net/event/city-hall-will-be-closed-2/
END:VEVENT
BEGIN:VEVENT
DTSTART;VALUE=DATE:20181122
DTEND;VALUE=DATE:20181123
DTSTAMP:20260426T000756
CREATED:20181116T142009Z
LAST-MODIFIED:20181116T142009Z
UID:9560-1542844800-1542931199@russellsprings.net
SUMMARY:Thanksgiving Day!
DESCRIPTION:Thanksgiving Day!
URL:https://russellsprings.net/event/thanksgiving-day/
END:VEVENT
BEGIN:VEVENT
DTSTART;TZID=UTC:20181108T180000
DTEND;TZID=UTC:20181108T180000
DTSTAMP:20260426T000756
CREATED:20180405T130100Z
LAST-MODIFIED:20180405T130100Z
UID:9179-1541700000-1541700000@russellsprings.net
SUMMARY:City of Russell Springs Council Meeting 6:00pm
DESCRIPTION:City of Russell Springs Regularly Monthly Meeting \nCity Hall in Russell Springs 6:00 p.m.
URL:https://russellsprings.net/event/city-of-russell-springs-council-meeting-600pm-10/
END:VEVENT
BEGIN:VEVENT
DTSTART;TZID=UTC:20181011T180000
DTEND;TZID=UTC:20181011T180000
DTSTAMP:20260426T000756
CREATED:20180405T130014Z
LAST-MODIFIED:20180405T130014Z
UID:9177-1539280800-1539280800@russellsprings.net
SUMMARY:City of Russell Springs Council Meeting 6:00pm
DESCRIPTION:City of Russell Springs Regularly Monthly Meeting \nCity Hall in Russell Springs 6:00 p.m.
URL:https://russellsprings.net/event/city-of-russell-springs-council-meeting-600pm-9/
END:VEVENT
BEGIN:VEVENT
DTSTART;VALUE=DATE:20181005
DTEND;VALUE=DATE:20181007
DTSTAMP:20260426T000756
CREATED:20180927T115953Z
LAST-MODIFIED:20180927T115953Z
UID:9500-1538697600-1538870399@russellsprings.net
SUMMARY:Festival at the Springs
DESCRIPTION:
URL:https://russellsprings.net/event/festival-at-the-springs-2/
LOCATION:Russell Springs City Park\, Milton Heights\, Russell Springs\, KY\, 42642\, United States
END:VEVENT
BEGIN:VEVENT
DTSTART;TZID=UTC:20180913T180000
DTEND;TZID=UTC:20180913T180000
DTSTAMP:20260426T000756
CREATED:20180405T125922Z
LAST-MODIFIED:20180405T125922Z
UID:9175-1536861600-1536861600@russellsprings.net
SUMMARY:City of Russell Springs Council Meeting 6:00pm
DESCRIPTION:City of Russell Springs Regularly Monthly Meeting \nCity Hall in Russell Springs 6:00 p.m.
URL:https://russellsprings.net/event/city-of-russell-springs-council-meeting-600pm-8/
END:VEVENT
BEGIN:VEVENT
DTSTART;TZID=UTC:20180809T180000
DTEND;TZID=UTC:20180809T180000
DTSTAMP:20260426T000756
CREATED:20180405T125823Z
LAST-MODIFIED:20180405T125823Z
UID:9173-1533837600-1533837600@russellsprings.net
SUMMARY:City of Russell Springs Council Meeting 6:00pm
DESCRIPTION:City of Russell Springs Regularly Monthly Meeting \nCity Hall in Russell Springs 6:00 p.m.
URL:https://russellsprings.net/event/city-of-russell-springs-council-meeting-600pm-7/
END:VEVENT
BEGIN:VEVENT
DTSTART;TZID=UTC:20180712T180000
DTEND;TZID=UTC:20180712T180000
DTSTAMP:20260426T000756
CREATED:20180405T125741Z
LAST-MODIFIED:20180405T125741Z
UID:9171-1531418400-1531418400@russellsprings.net
SUMMARY:City of Russell Springs Council Meeting 6:00pm
DESCRIPTION:City of Russell Springs Regularly Monthly Meeting \nCity Hall in Russell Springs 6:00 p.m.
URL:https://russellsprings.net/event/city-of-russell-springs-council-meeting-600pm-6/
END:VEVENT
BEGIN:VEVENT
DTSTART;TZID=UTC:20180614T180000
DTEND;TZID=UTC:20180614T180000
DTSTAMP:20260426T000756
CREATED:20180405T125619Z
LAST-MODIFIED:20180405T125619Z
UID:9169-1528999200-1528999200@russellsprings.net
SUMMARY:City of Russell Springs Council Meeting 6:00pm
DESCRIPTION:City of Russell Springs Regularly Monthly Meeting \nCity Hall in Russell Springs 6:00 p.m.
URL:https://russellsprings.net/event/city-of-russell-springs-council-meeting-600pm-5/
END:VEVENT
BEGIN:VEVENT
DTSTART;TZID=UTC:20180510T180000
DTEND;TZID=UTC:20180510T180000
DTSTAMP:20260426T000756
CREATED:20180405T125523Z
LAST-MODIFIED:20180405T125523Z
UID:9167-1525975200-1525975200@russellsprings.net
SUMMARY:City of Russell Springs Council Meeting 6:00pm
DESCRIPTION:City of Russell Springs Regularly Monthly Meeting City Hall in Russell Springs 6:00 p.m.
URL:https://russellsprings.net/event/city-of-russell-springs-council-meeting-600pm-4/
END:VEVENT
BEGIN:VEVENT
DTSTART;TZID=UTC:20180412T180000
DTEND;TZID=UTC:20180412T180000
DTSTAMP:20260426T000756
CREATED:20180405T125423Z
LAST-MODIFIED:20180405T125423Z
UID:9165-1523556000-1523556000@russellsprings.net
SUMMARY:City of Russell Springs Council Meeting 6:00pm
DESCRIPTION:City of Russell Springs Regularly Monthly Meeting \nCity Hall in Russell Springs 6:00 p.m.
URL:https://russellsprings.net/event/city-of-russell-springs-council-meeting-600pm-3/
END:VEVENT
BEGIN:VEVENT
DTSTART;VALUE=DATE:20180219
DTEND;VALUE=DATE:20180220
DTSTAMP:20260426T000756
CREATED:20180216T184655Z
LAST-MODIFIED:20180216T184655Z
UID:9048-1518998400-1519084799@russellsprings.net
SUMMARY:Presidents' Day
DESCRIPTION:Presidents’ Day
URL:https://russellsprings.net/event/presidents-day/
END:VEVENT
BEGIN:VEVENT
DTSTART;VALUE=DATE:20180219
DTEND;VALUE=DATE:20180220
DTSTAMP:20260426T000756
CREATED:20180216T184556Z
LAST-MODIFIED:20180216T184556Z
UID:9045-1518998400-1518998400@russellsprings.net
SUMMARY:City Hall Closed
DESCRIPTION:Russell Springs City Hall will be closed in observance of Presidents’ Day.
URL:https://russellsprings.net/event/city-hall-closed/
END:VEVENT
BEGIN:VEVENT
DTSTART;VALUE=DATE:20180214
DTEND;VALUE=DATE:20180215
DTSTAMP:20260426T000756
CREATED:20180120T153118Z
LAST-MODIFIED:20180120T153203Z
UID:8980-1518566400-1518652799@russellsprings.net
SUMMARY:Valentines Day
DESCRIPTION:
URL:https://russellsprings.net/event/valentines-day/
END:VEVENT
BEGIN:VEVENT
DTSTART;TZID=UTC:20180208T180000
DTEND;TZID=UTC:20180208T200000
DTSTAMP:20260426T000756
CREATED:20180120T152451Z
LAST-MODIFIED:20180120T152451Z
UID:8974-1518112800-1518120000@russellsprings.net
SUMMARY:City of Russell Springs Council Meeting 6:00pm
DESCRIPTION:City of Russell Springs Regularly Monthly Meeting \nCity Hall in Russell Springs 6:00 p.m.
URL:https://russellsprings.net/event/city-of-russell-springs-council-meeting-600pm-2/
END:VEVENT
BEGIN:VEVENT
DTSTART;VALUE=DATE:20180202
DTEND;VALUE=DATE:20180203
DTSTAMP:20260426T000756
CREATED:20180120T153005Z
LAST-MODIFIED:20180120T153005Z
UID:8978-1517529600-1517615999@russellsprings.net
SUMMARY:Groundhog Day
DESCRIPTION:It derives from the Pennsylvania Dutch superstition that if a groundhog emerging from its burrow on this day sees a shadow due to clear weather\, it will retreat to its den and winter will persist for six more weeks\, and if he does not\, due to cloudiness\, spring season will arrive early.
URL:https://russellsprings.net/event/groundhog-day/
END:VEVENT
BEGIN:VEVENT
DTSTART;TZID=UTC:20180111T180000
DTEND;TZID=UTC:20180111T180000
DTSTAMP:20260426T000756
CREATED:20180111T184901Z
LAST-MODIFIED:20180111T184901Z
UID:8951-1515693600-1515693600@russellsprings.net
SUMMARY:City of Russell Springs Council Meeting 6:00pm
DESCRIPTION:City of Russell Springs Regularly Monthly Meeting \nCity Hall in Russell Springs 6:00 p.m.
URL:https://russellsprings.net/event/city-of-russell-springs-council-meeting-600pm/
END:VEVENT
END:VCALENDAR