BEGIN:VCALENDAR
VERSION:2.0
PRODID:-//City of Russell Springs - ECPv6.2.9//NONSGML v1.0//EN
CALSCALE:GREGORIAN
METHOD:PUBLISH
X-ORIGINAL-URL:https://russellsprings.net
X-WR-CALDESC:Events for City of Russell Springs
REFRESH-INTERVAL;VALUE=DURATION:PT1H
X-Robots-Tag:noindex
X-PUBLISHED-TTL:PT1H
BEGIN:VTIMEZONE
TZID:UTC
BEGIN:STANDARD
TZOFFSETFROM:+0000
TZOFFSETTO:+0000
TZNAME:UTC
DTSTART:20190101T000000
END:STANDARD
END:VTIMEZONE
BEGIN:VEVENT
DTSTART;TZID=UTC:20191114T080000
DTEND;TZID=UTC:20191114T170000
DTSTAMP:20260425T154447
CREATED:20190103T125000Z
LAST-MODIFIED:20190103T125000Z
UID:9662-1573718400-1573750800@russellsprings.net
SUMMARY:City Council Meeting
DESCRIPTION:Regular Monthly Meeting of the Russell Springs City Council. \n6:00 p.m. at City Hall on Main Street
URL:https://russellsprings.net/event/city-council-meeting-16/
END:VEVENT
BEGIN:VEVENT
DTSTART;TZID=UTC:20191212T180000
DTEND;TZID=UTC:20191212T180000
DTSTAMP:20260425T154447
CREATED:20190103T125050Z
LAST-MODIFIED:20190103T125050Z
UID:9664-1576173600-1576173600@russellsprings.net
SUMMARY:City Council Meeting
DESCRIPTION:Regular Monthly Meeting of the Russell Springs City Council. \n6:00 p.m. at City Hall on Main Street
URL:https://russellsprings.net/event/city-council-meeting-17/
END:VEVENT
END:VCALENDAR